BEGIN:VCALENDAR
VERSION:2.0
PRODID:GlueUp
CALSCALE:GREGORIAN
BEGIN:VTIMEZONE
TZID:UTC
BEGIN:STANDARD
DTSTART:19700101T000000
TZOFFSETFROM:+0000
TZOFFSETTO:+0000
TZNAME:UTC
END:STANDARD
END:VTIMEZONE
BEGIN:VEVENT
TZ:+00
ORGANIZER;CN=白歌:MAILTO:baig@daonong.com
UID:24312-1776806616@https://app.glueup.cn
DTSTAMP:20260421T212336Z
DTSTART:20191207T160001Z
DTEND:20191207T160001Z
SUMMARY:音你而在
DESCRIPTION:中国企业家俱乐部发布活动音你而在\n\n2019年12月08日(GMT+8)\n\n更多信息，访问https://app.glueup.cn/my/events/24312
LOCATION:丝绸之路国际文化交流中心 - 河北省廊坊广阳区和平路263号西90米
BEGIN:VALARM
TRIGGER:-PT48H
REPEAT:4
DURATION:PT30M
ACTION:DISPLAY
END:VALARM
END:VEVENT
END:VCALENDAR