BEGIN:VCALENDAR
VERSION:2.0
PRODID:GlueUp
CALSCALE:GREGORIAN
BEGIN:VTIMEZONE
TZID:UTC
BEGIN:STANDARD
DTSTART:19700101T000000
TZOFFSETFROM:+0000
TZOFFSETTO:+0000
TZNAME:UTC
END:STANDARD
END:VTIMEZONE
BEGIN:VEVENT
TZ:+00
ORGANIZER;CN=Wang Melinda:MAILTO:melinda.wang@messenanjing.cn
UID:31975-1776642903@https://app.glueup.cn
DTSTAMP:20260419T235503Z
DTSTART:20211020T160001Z
DTEND:20211022T130000Z
SUMMARY:The 5th Shanghai-Stuttgart-Symposium on Automotive and Powertrain Technology
DESCRIPTION:The 5th Shanghai-Stuttgart-Symposium on Automotive and Powertrain Technology by Nanjing Stuttgart Joint Exhibition Ltd. (Messe Nanjing)\n\nOct 21 & 22, 2021(GMT+8)\n\nFor more information, click here: https://app.glueup.cn/my/events/31975
LOCATION: - China
BEGIN:VALARM
TRIGGER:-PT48H
REPEAT:4
DURATION:PT30M
ACTION:DISPLAY
END:VALARM
END:VEVENT
END:VCALENDAR