BEGIN:VCALENDAR
VERSION:2.0
PRODID:GlueUp
CALSCALE:GREGORIAN
BEGIN:VTIMEZONE
TZID:UTC
BEGIN:STANDARD
DTSTART:19700101T000000
TZOFFSETFROM:+0000
TZOFFSETTO:+0000
TZNAME:UTC
END:STANDARD
END:VTIMEZONE
BEGIN:VEVENT
TZ:+00
ORGANIZER;CN=Matthieu Bodin:MAILTO:china@startupweekend.org
UID:24207-1776776430@https://app.glueup.cn
DTSTAMP:20260421T130030Z
DTSTART:20191116T010000Z
DTEND:20191117T130000Z
SUMMARY:Startup Weekend Macao Education
DESCRIPTION:Startup Weekend Macao Education by Startup Weekend China\n\nNov 16 & 17, 2019(GMT+8)\n\nFor more information, click here: https://app.glueup.cn/my/events/24207
LOCATION: - country-CN-MO
BEGIN:VALARM
TRIGGER:-PT48H
REPEAT:4
DURATION:PT30M
ACTION:DISPLAY
END:VALARM
END:VEVENT
END:VCALENDAR