BEGIN:VCALENDAR
VERSION:2.0
PRODID:GlueUp
CALSCALE:GREGORIAN
BEGIN:VTIMEZONE
TZID:UTC
BEGIN:STANDARD
DTSTART:19700101T000000
TZOFFSETFROM:+0000
TZOFFSETTO:+0000
TZNAME:UTC
END:STANDARD
END:VTIMEZONE
BEGIN:VEVENT
TZ:+00
ORGANIZER;CN=Francine Zhang:MAILTO:francine.zhang@eibens.com
UID:29450-1776978301@https://app.glueup.cn
DTSTAMP:20260423T210501Z
DTSTART:20201125T080000Z
DTEND:20201125T103000Z
SUMMARY:"European Pork, Excellence from Farm to Fork" Shenzhen Tasting
DESCRIPTION:"European Pork, Excellence from Farm to Fork" Shenzhen Tasting by European Pork, the Smart Choice\n\nNov 25, 2020 (16:00 - 18:30)(GMT+8)\n\nFor more information, click here: https://app.glueup.cn/my/events/29450
LOCATION:Sheraton Hotel 6th floor (Zhou room) - 6th floor - ShenZhen FuTian Sheraton Hotel  - No.1 Fuhua 1st Road - Shenzhen China Shenzhen - Guangdong - China
BEGIN:VALARM
TRIGGER:-PT48H
REPEAT:4
DURATION:PT30M
ACTION:DISPLAY
END:VALARM
END:VEVENT
END:VCALENDAR