BEGIN:VCALENDAR
VERSION:2.0
PRODID:GlueUp
CALSCALE:GREGORIAN
BEGIN:VTIMEZONE
TZID:UTC
BEGIN:STANDARD
DTSTART:19700101T000000
TZOFFSETFROM:+0000
TZOFFSETTO:+0000
TZNAME:UTC
END:STANDARD
END:VTIMEZONE
BEGIN:VEVENT
TZ:+00
ORGANIZER;CN=谢少桢:MAILTO:sx@seafood.no
UID:23911-1776729582@https://app.glueup.cn
DTSTAMP:20260420T235942Z
DTSTART:20191029T060000Z
DTEND:20191029T123000Z
SUMMARY:Norway-China Seafood Summit 2019
DESCRIPTION:Norway-China Seafood Summit 2019 by Norwegian Seafood Council\n\nOct 29, 2019 (14:00 - 20:30)(GMT+8)\n\nFor more information, click here: https://app.glueup.cn/my/events/23911
LOCATION:Hyatt Regency Qingdao Regency Ballboom 3F - No.88 Donghai East Road Qingdao - Shandong - China
BEGIN:VALARM
TRIGGER:-PT48H
REPEAT:4
DURATION:PT30M
ACTION:DISPLAY
END:VALARM
END:VEVENT
END:VCALENDAR