BEGIN:VCALENDAR
VERSION:2.0
PRODID:GlueUp
CALSCALE:GREGORIAN
BEGIN:VTIMEZONE
TZID:UTC
BEGIN:STANDARD
DTSTART:19700101T000000
TZOFFSETFROM:+0000
TZOFFSETTO:+0000
TZNAME:UTC
END:STANDARD
END:VTIMEZONE
BEGIN:VEVENT
TZ:+00
ORGANIZER;CN=Qinqin Han:MAILTO:646211872@qq.com
UID:24103-1776782437@https://app.glueup.cn
DTSTAMP:20260421T144037Z
DTSTART:20191108T103000Z
DTEND:20191110T120000Z
SUMMARY:Startup Weekend Chengdu #10
DESCRIPTION:Startup Weekend Chengdu #10 by Startup Weekend China\n\nNov 8 - 10, 2019(GMT+8)\n\nFor more information, click here: https://app.glueup.cn/my/events/24103
LOCATION: - China
BEGIN:VALARM
TRIGGER:-PT48H
REPEAT:4
DURATION:PT30M
ACTION:DISPLAY
END:VALARM
END:VEVENT
END:VCALENDAR