BEGIN:VCALENDAR
VERSION:2.0
PRODID:GlueUp
CALSCALE:GREGORIAN
BEGIN:VTIMEZONE
TZID:UTC
BEGIN:STANDARD
DTSTART:19700101T000000
TZOFFSETFROM:+0000
TZOFFSETTO:+0000
TZNAME:UTC
END:STANDARD
END:VTIMEZONE
BEGIN:VEVENT
TZ:+00
ORGANIZER;CN=Events FT:MAILTO:ftevents@ftchinese.com
UID:41866-1776662510@https://app.glueup.cn
DTSTAMP:20260420T052150Z
DTSTART:20231110T020000Z
DTEND:20231109T160001Z
SUMMARY:Business Aviation Finance & Deluxe Tourism (Macau) Forum
DESCRIPTION:Business Aviation Finance & Deluxe Tourism (Macau) Forum by FT中文网\n\nNov 10, 2023 (10:00 AM)(GMT+8)\n\nFor more information, click here: https://app.glueup.cn/my/events/41866
LOCATION:Studio City - Estr. do Istmo - Macao country-CN-MO
BEGIN:VALARM
TRIGGER:-PT48H
REPEAT:4
DURATION:PT30M
ACTION:DISPLAY
END:VALARM
END:VEVENT
END:VCALENDAR