BEGIN:VCALENDAR
VERSION:2.0
PRODID:GlueUp
CALSCALE:GREGORIAN
BEGIN:VTIMEZONE
TZID:UTC
BEGIN:STANDARD
DTSTART:19700101T000000
TZOFFSETFROM:+0000
TZOFFSETTO:+0000
TZNAME:UTC
END:STANDARD
END:VTIMEZONE
BEGIN:VEVENT
TZ:+00
ORGANIZER;CN=Matthieu Bodin:MAILTO:china@startupweekend.org
UID:24756-1776766296@https://app.glueup.cn
DTSTAMP:20260421T101136Z
DTSTART:20191213T103000Z
DTEND:20191215T120000Z
SUMMARY:创业周末长春站Startup Weekend Changchun
DESCRIPTION:创业周末发布活动创业周末长春站Startup Weekend Changchun\n\n十二月 13 - 15，2019(GMT+8)\n\n更多信息，访问https://app.glueup.cn/my/events/24756
LOCATION:长春市中关村创新中心 - 中国吉林长春中关村创新中心（超越大街与创意路交汇）
BEGIN:VALARM
TRIGGER:-PT48H
REPEAT:4
DURATION:PT30M
ACTION:DISPLAY
END:VALARM
END:VEVENT
END:VCALENDAR