BEGIN:VCALENDAR
VERSION:2.0
PRODID:GlueUp
CALSCALE:GREGORIAN
BEGIN:VTIMEZONE
TZID:UTC
BEGIN:STANDARD
DTSTART:19700101T000000
TZOFFSETFROM:+0000
TZOFFSETTO:+0000
TZNAME:UTC
END:STANDARD
END:VTIMEZONE
BEGIN:VEVENT
TZ:+00
ORGANIZER;CN=Matthieu Bodin:MAILTO:china@startupweekend.org
UID:24557-1776604616@https://app.glueup.cn
DTSTAMP:20260419T131656Z
DTSTART:20191206T103000Z
DTEND:20191208T120000Z
SUMMARY:Startup Weekend Shenzhen | SOCIAL INNOVATION 2019.12.06 - 12.08
DESCRIPTION:Startup Weekend Shenzhen | SOCIAL INNOVATION 2019.12.06 - 12.08 by Startup Weekend China\n\nDec 6 - 8, 2019(GMT+8)\n\nFor more information, click here: https://app.glueup.cn/my/events/24557
LOCATION:wework Viseen - 1st Floor - Building 7 - Viseen Shenzhen Business Park - 9 Gaoxin Nan Jiu Dao - Nanshan District - Shenzhen - Guangdong - China
BEGIN:VALARM
TRIGGER:-PT48H
REPEAT:4
DURATION:PT30M
ACTION:DISPLAY
END:VALARM
END:VEVENT
END:VCALENDAR