BEGIN:VCALENDAR
VERSION:2.0
PRODID:GlueUp
CALSCALE:GREGORIAN
BEGIN:VTIMEZONE
TZID:UTC
BEGIN:STANDARD
DTSTART:19700101T000000
TZOFFSETFROM:+0000
TZOFFSETTO:+0000
TZNAME:UTC
END:STANDARD
END:VTIMEZONE
BEGIN:VEVENT
TZ:+00
ORGANIZER;CN=Eunice Chong:MAILTO:eunicechong_93@hotmail.com
UID:24897-1776770963@https://app.glueup.cn
DTSTAMP:20260421T112923Z
DTSTART:20191220T100000Z
DTEND:20191222T120000Z
SUMMARY:Startup Weekend Shanghai - University Edition 2019
DESCRIPTION:Startup Weekend Shanghai - University Edition 2019 by Startup Weekend China\n\nDec 20 - 22, 2019(GMT+8)\n\nFor more information, click here: https://app.glueup.cn/my/events/24897
LOCATION: - Lane 1228 - Jiang Chang Road - Zhong Huan Xie Xin Tian Di - Building 5 - Block B Shanghai - China
BEGIN:VALARM
TRIGGER:-PT48H
REPEAT:4
DURATION:PT30M
ACTION:DISPLAY
END:VALARM
END:VEVENT
END:VCALENDAR