BEGIN:VCALENDAR
VERSION:2.0
PRODID:GlueUp
CALSCALE:GREGORIAN
BEGIN:VTIMEZONE
TZID:UTC
BEGIN:STANDARD
DTSTART:19700101T000000
TZOFFSETFROM:+0000
TZOFFSETTO:+0000
TZNAME:UTC
END:STANDARD
END:VTIMEZONE
BEGIN:VEVENT
TZ:+00
ORGANIZER;CN=燕鸣:MAILTO:yanm@daonong.com
UID:24167-1776801153@https://app.glueup.cn
DTSTAMP:20260421T195233Z
DTSTART:20191119T060000Z
DTEND:20191120T100000Z
SUMMARY:“全场景”新零售平台的战略局、人才局与技术局
DESCRIPTION:中国企业家俱乐部发布活动“全场景”新零售平台的战略局、人才局与技术局\n\n2019年11月19日，2019年11月20日(GMT+8)\n\n更多信息，访问https://app.glueup.cn/my/events/24167
LOCATION:苏宁易购 - 中国江苏省南京市苏宁大道 1号
BEGIN:VALARM
TRIGGER:-PT48H
REPEAT:4
DURATION:PT30M
ACTION:DISPLAY
END:VALARM
END:VEVENT
END:VCALENDAR