BEGIN:VCALENDAR
VERSION:2.0
PRODID:GlueUp
CALSCALE:GREGORIAN
BEGIN:VTIMEZONE
TZID:UTC
BEGIN:STANDARD
DTSTART:19700101T000000
TZOFFSETFROM:+0000
TZOFFSETTO:+0000
TZNAME:UTC
END:STANDARD
END:VTIMEZONE
BEGIN:VEVENT
TZ:+00
ORGANIZER;CN=燕鸣:MAILTO:yanm@daonong.com
UID:22800-1776801136@https://app.glueup.cn
DTSTAMP:20260421T195216Z
DTSTART:20190924T040000Z
DTEND:20191001T035500Z
SUMMARY:中国绿公司联盟-杜克大学菁华之旅
DESCRIPTION:中国企业家俱乐部发布活动中国绿公司联盟-杜克大学菁华之旅\n\n9月 24 - 30，2019(GMT-4)\n\n更多信息，访问https://app.glueup.cn/my/events/22800
LOCATION:杜克大学 - 美国北卡罗来纳州德罕美国 · 北卡罗来纳州达勒姆市
BEGIN:VALARM
TRIGGER:-PT48H
REPEAT:4
DURATION:PT30M
ACTION:DISPLAY
END:VALARM
END:VEVENT
END:VCALENDAR