BEGIN:VCALENDAR
VERSION:2.0
PRODID:GlueUp
CALSCALE:GREGORIAN
BEGIN:VTIMEZONE
TZID:UTC
BEGIN:STANDARD
DTSTART:19700101T000000
TZOFFSETFROM:+0000
TZOFFSETTO:+0000
TZNAME:UTC
END:STANDARD
END:VTIMEZONE
BEGIN:VEVENT
TZ:+00
ORGANIZER;CN=VLIS EventBank admin:MAILTO:eventbank@vlis.be
UID:27115-1777072105@https://app.glueup.cn
DTSTAMP:20260424T230825Z
DTSTART:20200614T040000Z
DTEND:20200614T080000Z
SUMMARY:VLIS Festijn
DESCRIPTION:VLIS Festijn by VLIS\n\nJun 14, 2020 (12:00 PM - 4:00 PM)(GMT+8)\n\nFor more information, click here: https://app.glueup.cn/my/events/27115
LOCATION:Must Grill - 1/F - Bldg 2 - 881 Wuding Lu - near Changde Lu - 武定路881号2号楼1楼 - 近常德路 Shanghai - China
BEGIN:VALARM
TRIGGER:-PT48H
REPEAT:4
DURATION:PT30M
ACTION:DISPLAY
END:VALARM
END:VEVENT
END:VCALENDAR