BEGIN:VCALENDAR
VERSION:2.0
PRODID:GlueUp
CALSCALE:GREGORIAN
BEGIN:VTIMEZONE
TZID:UTC
BEGIN:STANDARD
DTSTART:19700101T000000
TZOFFSETFROM:+0000
TZOFFSETTO:+0000
TZNAME:UTC
END:STANDARD
END:VTIMEZONE
BEGIN:VEVENT
TZ:+00
ORGANIZER;CN=Elijah Odii:MAILTO:elijahodii16@fudan.edu.cn
UID:23698-1776990744@https://app.glueup.cn
DTSTAMP:20260424T003224Z
DTSTART:20190924T050000Z
DTEND:20190924T090000Z
SUMMARY:Visit to Electricity Company at Hangzhou
DESCRIPTION:Visit to Electricity Company at Hangzhou by Nigerians In Diaspora Organization (East China Chapter)\n\nSep 24, 2019 (1:00 PM - 5:00 PM)(GMT+8)\n\nFor more information, click here: https://app.glueup.cn/my/events/23698
LOCATION:POWERCHINA HUADONG ENGINEERING COOPERATION LIMITED - HQ Adress: No.201 Gaojiao Road - HangZhou - ZheJiang Province - P.R. China  PC:311122 Hangzhou - Zhejiang - China
BEGIN:VALARM
TRIGGER:-PT48H
REPEAT:4
DURATION:PT30M
ACTION:DISPLAY
END:VALARM
END:VEVENT
END:VCALENDAR