BEGIN:VCALENDAR
VERSION:2.0
PRODID:GlueUp
CALSCALE:GREGORIAN
BEGIN:VTIMEZONE
TZID:UTC
BEGIN:STANDARD
DTSTART:19700101T000000
TZOFFSETFROM:+0000
TZOFFSETTO:+0000
TZNAME:UTC
END:STANDARD
END:VTIMEZONE
BEGIN:VEVENT
TZ:+00
ORGANIZER;CN=Nini Qi:MAILTO:nini.qi@sha.swisscham.org
UID:26611-1776667208@https://app.glueup.cn
DTSTAMP:20260420T064008Z
DTSTART:20200509T010000Z
DTEND:20200509T090000Z
SUMMARY:[Training] SPC 统计过程控制线上直播课程（中文授课）
DESCRIPTION:[Training] SPC 统计过程控制线上直播课程（中文授课） by SwissCham Shanghai\n\nMay 9, 2020 (09:00 - 17:00)(GMT+8)\n\nFor more information, click here: https://app.glueup.cn/my/events/26611
LOCATION:
BEGIN:VALARM
TRIGGER:-PT48H
REPEAT:4
DURATION:PT30M
ACTION:DISPLAY
END:VALARM
END:VEVENT
END:VCALENDAR