BEGIN:VCALENDAR
VERSION:2.0
PRODID:GlueUp
CALSCALE:GREGORIAN
BEGIN:VTIMEZONE
TZID:UTC
BEGIN:STANDARD
DTSTART:19700101T000000
TZOFFSETFROM:+0000
TZOFFSETTO:+0000
TZNAME:UTC
END:STANDARD
END:VTIMEZONE
BEGIN:VEVENT
TZ:+00
ORGANIZER;CN=Marian Danko:MAILTO:becool@wehustle.cn
UID:30893-1776781738@https://app.glueup.cn
DTSTAMP:20260421T142858Z
DTSTART:20210312T000000Z
DTEND:20210312T010000Z
SUMMARY:The Founders Breakfast 创早 #71
DESCRIPTION:The Founders Breakfast 创早 #71 by weHustle\n\nMar 12, 2021 (8:00 AM - 9:00 AM)(GMT+8)\n\nFor more information, click here: https://app.glueup.cn/my/events/30893
LOCATION:Baker & Spice - 安福路195号 - 195 Anfu Lu Shanghai - China
BEGIN:VALARM
TRIGGER:-PT48H
REPEAT:4
DURATION:PT30M
ACTION:DISPLAY
END:VALARM
END:VEVENT
END:VCALENDAR