BEGIN:VCALENDAR
VERSION:2.0
PRODID:GlueUp
CALSCALE:GREGORIAN
BEGIN:VTIMEZONE
TZID:UTC
BEGIN:STANDARD
DTSTART:19700101T000000
TZOFFSETFROM:+0000
TZOFFSETTO:+0000
TZNAME:UTC
END:STANDARD
END:VTIMEZONE
BEGIN:VEVENT
TZ:+00
ORGANIZER;CN=Leona Lee:MAILTO:h.l.leona.lee@qq.com
UID:28551-1776939513@https://app.glueup.cn
DTSTAMP:20260423T101833Z
DTSTART:20200925T100000Z
DTEND:20200927T133000Z
SUMMARY:Techstars Startup Weekend Shanghai 2020
DESCRIPTION:Techstars Startup Weekend Shanghai 2020 by Startup Weekend China\n\nSep 25 - 27, 2020(GMT+8)\n\nFor more information, click here: https://app.glueup.cn/my/events/28551
LOCATION: - China
BEGIN:VALARM
TRIGGER:-PT48H
REPEAT:4
DURATION:PT30M
ACTION:DISPLAY
END:VALARM
END:VEVENT
END:VCALENDAR