BEGIN:VCALENDAR
VERSION:2.0
PRODID:GlueUp
CALSCALE:GREGORIAN
BEGIN:VTIMEZONE
TZID:UTC
BEGIN:STANDARD
DTSTART:19700101T000000
TZOFFSETFROM:+0000
TZOFFSETTO:+0000
TZNAME:UTC
END:STANDARD
END:VTIMEZONE
BEGIN:VEVENT
TZ:+00
ORGANIZER;CN=Andre Queme:MAILTO:andre.queme@startupdigestmail.com
UID:31895-1776770778@https://app.glueup.cn
DTSTAMP:20260421T112618Z
DTSTART:20210730T100000Z
DTEND:20210801T133000Z
SUMMARY:Techstars Startup Weekend Beijing
DESCRIPTION:Techstars Startup Weekend Beijing by Startup Weekend China\n\nJul 30, 2021 to Aug 1, 2021(GMT+8)\n\nFor more information, click here: https://app.glueup.cn/my/events/31895
LOCATION:Innoway 中关村创业大街 - 海淀区西大街48号 - No. 48 West Street - Haidian District Beijing - China
BEGIN:VALARM
TRIGGER:-PT48H
REPEAT:4
DURATION:PT30M
ACTION:DISPLAY
END:VALARM
END:VEVENT
END:VCALENDAR