BEGIN:VCALENDAR
VERSION:2.0
PRODID:GlueUp
CALSCALE:GREGORIAN
BEGIN:VTIMEZONE
TZID:UTC
BEGIN:STANDARD
DTSTART:19700101T000000
TZOFFSETFROM:+0000
TZOFFSETTO:+0000
TZNAME:UTC
END:STANDARD
END:VTIMEZONE
BEGIN:VEVENT
TZ:+00
ORGANIZER;CN=Xuebao WU:MAILTO:wuxuebao@ccg.org.cn
UID:26596-1776786398@https://app.glueup.cn
DTSTAMP:20260421T154638Z
DTSTART:20200429T123000Z
DTEND:20200429T143000Z
SUMMARY:Technology and Coronavirus: Lessons and Proposals from China and the US
DESCRIPTION:Technology and Coronavirus: Lessons and Proposals from China and the US by Center for China and Globalization\n\nApr 29, 2020 (20:30 - 22:30)(GMT+8)\n\nFor more information, click here: https://app.glueup.cn/my/events/26596
LOCATION:
BEGIN:VALARM
TRIGGER:-PT48H
REPEAT:4
DURATION:PT30M
ACTION:DISPLAY
END:VALARM
END:VEVENT
END:VCALENDAR