BEGIN:VCALENDAR
VERSION:2.0
PRODID:GlueUp
CALSCALE:GREGORIAN
BEGIN:VTIMEZONE
TZID:UTC
BEGIN:STANDARD
DTSTART:19700101T000000
TZOFFSETFROM:+0000
TZOFFSETTO:+0000
TZNAME:UTC
END:STANDARD
END:VTIMEZONE
BEGIN:VEVENT
TZ:+00
ORGANIZER;CN=Amber Zhao:MAILTO:amber.zhao@eibens.com
UID:44288-1776766333@https://app.glueup.cn
DTSTAMP:20260421T101213Z
DTSTART:20241209T000000Z
DTEND:20241209T100000Z
SUMMARY:Study trip to Europe September 30 to October 4
DESCRIPTION:Study trip to Europe September 30 to October 4 by European Pork, the Smart Choice\n\nDec 9, 2024 (08:00 - 18:00)(GMT+8)\n\nFor more information, click here: https://app.glueup.cn/my/events/44288
LOCATION:Meliá Avenida de América - Mardid - Spain
BEGIN:VALARM
TRIGGER:-PT48H
REPEAT:4
DURATION:PT30M
ACTION:DISPLAY
END:VALARM
END:VEVENT
END:VCALENDAR