BEGIN:VCALENDAR
VERSION:2.0
PRODID:GlueUp
CALSCALE:GREGORIAN
BEGIN:VTIMEZONE
TZID:UTC
BEGIN:STANDARD
DTSTART:19700101T000000
TZOFFSETFROM:+0000
TZOFFSETTO:+0000
TZNAME:UTC
END:STANDARD
END:VTIMEZONE
BEGIN:VEVENT
TZ:+00
ORGANIZER;CN=Matthieu Bodin:MAILTO:china@startupweekend.org
UID:23446-1776770952@https://app.glueup.cn
DTSTAMP:20260421T112912Z
DTSTART:20191206T103000Z
DTEND:20191208T123000Z
SUMMARY:Startup Weekend Suzhou #General Aviation
DESCRIPTION:Startup Weekend Suzhou #General Aviation by Startup Weekend China\n\nDec 6 - 8, 2019(GMT+8)\n\nFor more information, click here: https://app.glueup.cn/my/events/23446
LOCATION: - China
BEGIN:VALARM
TRIGGER:-PT48H
REPEAT:4
DURATION:PT30M
ACTION:DISPLAY
END:VALARM
END:VEVENT
END:VCALENDAR