BEGIN:VCALENDAR
VERSION:2.0
PRODID:GlueUp
CALSCALE:GREGORIAN
BEGIN:VTIMEZONE
TZID:UTC
BEGIN:STANDARD
DTSTART:19700101T000000
TZOFFSETFROM:+0000
TZOFFSETTO:+0000
TZNAME:UTC
END:STANDARD
END:VTIMEZONE
BEGIN:VEVENT
TZ:+00
ORGANIZER;CN=Matthieu Bodin:MAILTO:china@startupweekend.org
UID:31025-1776776441@https://app.glueup.cn
DTSTAMP:20260421T130041Z
DTSTART:20210513T160001Z
DTEND:20210515T160001Z
SUMMARY:Startup Weekend Online China Sustainability
DESCRIPTION:Startup Weekend Online China Sustainability by Startup Weekend China\n\nMay 14 - 16, 2021(GMT+8)\n\nFor more information, click here: https://app.glueup.cn/my/events/31025
LOCATION:
BEGIN:VALARM
TRIGGER:-PT48H
REPEAT:4
DURATION:PT30M
ACTION:DISPLAY
END:VALARM
END:VEVENT
END:VCALENDAR