BEGIN:VCALENDAR
VERSION:2.0
PRODID:GlueUp
CALSCALE:GREGORIAN
BEGIN:VTIMEZONE
TZID:UTC
BEGIN:STANDARD
DTSTART:19700101T000000
TZOFFSETFROM:+0000
TZOFFSETTO:+0000
TZNAME:UTC
END:STANDARD
END:VTIMEZONE
BEGIN:VEVENT
TZ:+00
ORGANIZER;CN=Matthieu Bodin:MAILTO:china@startupweekend.org
UID:26371-1776604552@https://app.glueup.cn
DTSTAMP:20260419T131552Z
DTSTART:20200424T100000Z
DTEND:20200426T120000Z
SUMMARY:Startup Weekend Macao Covid-19
DESCRIPTION:Startup Weekend Macao Covid-19 by Startup Weekend China\n\nApr 24 - 26, 2020(GMT+8)\n\nFor more information, click here: https://app.glueup.cn/my/events/26371
LOCATION: - country-CN-MO
BEGIN:VALARM
TRIGGER:-PT48H
REPEAT:4
DURATION:PT30M
ACTION:DISPLAY
END:VALARM
END:VEVENT
END:VCALENDAR