BEGIN:VCALENDAR
VERSION:2.0
PRODID:GlueUp
CALSCALE:GREGORIAN
BEGIN:VTIMEZONE
TZID:UTC
BEGIN:STANDARD
DTSTART:19700101T000000
TZOFFSETFROM:+0000
TZOFFSETTO:+0000
TZNAME:UTC
END:STANDARD
END:VTIMEZONE
BEGIN:VEVENT
TZ:+00
ORGANIZER;CN=Matthieu Bodin:MAILTO:china@startupweekend.org
UID:24386-1776604561@https://app.glueup.cn
DTSTAMP:20260419T131601Z
DTSTART:20191129T103000Z
DTEND:20191201T120000Z
SUMMARY:Startup Weekend Guangzhou
DESCRIPTION:创业周末发布活动Startup Weekend Guangzhou\n\n2019年11月29日 至 2019年12月01日(GMT+8)\n\n更多信息，访问https://app.glueup.cn/my/events/24386
LOCATION:宏宇同创汇•优客工场 - 中国广东省广州市广州市宝岗大道183号宏宇同创汇四层
BEGIN:VALARM
TRIGGER:-PT48H
REPEAT:4
DURATION:PT30M
ACTION:DISPLAY
END:VALARM
END:VEVENT
END:VCALENDAR