BEGIN:VCALENDAR
VERSION:2.0
PRODID:GlueUp
CALSCALE:GREGORIAN
BEGIN:VTIMEZONE
TZID:UTC
BEGIN:STANDARD
DTSTART:19700101T000000
TZOFFSETFROM:+0000
TZOFFSETTO:+0000
TZNAME:UTC
END:STANDARD
END:VTIMEZONE
BEGIN:VEVENT
TZ:+00
ORGANIZER;CN=Matthieu Bodin:MAILTO:china@startupweekend.org
UID:23055-1776770957@https://app.glueup.cn
DTSTAMP:20260421T112917Z
DTSTART:20190920T103000Z
DTEND:20190922T120000Z
SUMMARY:Startup Weekend Foshan 佛山创业周末
DESCRIPTION:创业周末发布活动Startup Weekend Foshan 佛山创业周末\n\n9月 20 - 22，2019(GMT+8)\n\n更多信息，访问https://app.glueup.cn/my/events/23055
LOCATION:柠檬客超能空间 - 广东省佛山市佛山市南海区简平路与庆怡路交汇处乐怡海创大厦7楼超能空间
BEGIN:VALARM
TRIGGER:-PT48H
REPEAT:4
DURATION:PT30M
ACTION:DISPLAY
END:VALARM
END:VEVENT
END:VCALENDAR