BEGIN:VCALENDAR
VERSION:2.0
PRODID:GlueUp
CALSCALE:GREGORIAN
BEGIN:VTIMEZONE
TZID:UTC
BEGIN:STANDARD
DTSTART:19700101T000000
TZOFFSETFROM:+0000
TZOFFSETTO:+0000
TZNAME:UTC
END:STANDARD
END:VTIMEZONE
BEGIN:VEVENT
TZ:+00
ORGANIZER;CN=Matthieu Bodin:MAILTO:china@startupweekend.org
UID:23360-1776604560@https://app.glueup.cn
DTSTAMP:20260419T131600Z
DTSTART:20191018T100000Z
DTEND:20191020T140000Z
SUMMARY:SW Daqing
DESCRIPTION:SW Daqing by Startup Weekend China\n\nOct 18 - 20, 2019(GMT+8)\n\nFor more information, click here: https://app.glueup.cn/my/events/23360
LOCATION: - China
BEGIN:VALARM
TRIGGER:-PT48H
REPEAT:4
DURATION:PT30M
ACTION:DISPLAY
END:VALARM
END:VEVENT
END:VCALENDAR