BEGIN:VCALENDAR
VERSION:2.0
PRODID:GlueUp
CALSCALE:GREGORIAN
BEGIN:VTIMEZONE
TZID:UTC
BEGIN:STANDARD
DTSTART:19700101T000000
TZOFFSETFROM:+0000
TZOFFSETTO:+0000
TZNAME:UTC
END:STANDARD
END:VTIMEZONE
BEGIN:VEVENT
TZ:+00
ORGANIZER;CN=JingJobs Intern:MAILTO:admin@jingjobs.com
UID:21033-1776807017@https://app.glueup.cn
DTSTAMP:20260421T213017Z
DTSTART:20190427T050000Z
DTEND:20190427T080000Z
SUMMARY:SPRING JOB AND INTERNSHIPS FAIR BEIJING
DESCRIPTION:SPRING JOB AND INTERNSHIPS FAIR BEIJING by JingJobs\n\nApr 27, 2019 (1:00 PM - 4:00 PM)(GMT+8)\n\nFor more information, click here: https://app.glueup.cn/my/events/21033
LOCATION:WeWork DongDaQiao - 3/F Baifu Guoji Building No. 18 - Gongren Tiyuchang Donglu - Chaoyang District Beijing - China
BEGIN:VALARM
TRIGGER:-PT48H
REPEAT:4
DURATION:PT30M
ACTION:DISPLAY
END:VALARM
END:VEVENT
END:VCALENDAR