BEGIN:VCALENDAR
VERSION:2.0
PRODID:GlueUp
CALSCALE:GREGORIAN
BEGIN:VTIMEZONE
TZID:UTC
BEGIN:STANDARD
DTSTART:19700101T000000
TZOFFSETFROM:+0000
TZOFFSETTO:+0000
TZNAME:UTC
END:STANDARD
END:VTIMEZONE
BEGIN:VEVENT
TZ:+00
ORGANIZER;CN=Shahbaz Iqbal:MAILTO:shahbaz.iqbal@glueup.com
UID:49387-1776649795@https://app.glueup.cn
DTSTAMP:20260420T014955Z
DTSTART:19700101T160001Z
DTEND:19700101T160001Z
SUMMARY:rp free
DESCRIPTION:rp free by No Sender Org .CN\n\nTBA(GMT+8)\n\nFor more information, click here: https://app.glueup.cn/my/events/49387
LOCATION:
BEGIN:VALARM
TRIGGER:-PT48H
REPEAT:4
DURATION:PT30M
ACTION:DISPLAY
END:VALARM
END:VEVENT
END:VCALENDAR