BEGIN:VCALENDAR
VERSION:2.0
PRODID:GlueUp
CALSCALE:GREGORIAN
BEGIN:VTIMEZONE
TZID:UTC
BEGIN:STANDARD
DTSTART:19700101T000000
TZOFFSETFROM:+0000
TZOFFSETTO:+0000
TZNAME:UTC
END:STANDARD
END:VTIMEZONE
BEGIN:VEVENT
TZ:+00
ORGANIZER;CN=Sherry Zhang:MAILTO:sherry.zhang@islcoaching.com
UID:39027-1777175348@https://app.glueup.cn
DTSTAMP:20260426T034908Z
DTSTART:20231208T103000Z
DTEND:20231208T123000Z
SUMMARY:【ONLINE WEBINAR】The Ultimate Guide to Choosing the Right Coaching Methods
DESCRIPTION:【ONLINE WEBINAR】The Ultimate Guide to Choosing the Right Coaching Methods by ISLC-Institute of Strategic Leadership and Coaching\n\nDec 8, 2023 (6:30 PM - 8:30 PM)(GMT+8)\n\nFor more information, click here: https://app.glueup.cn/my/events/39027
LOCATION:Hongqiao State Guest Hotel Shanghai - 上海市 - China
BEGIN:VALARM
TRIGGER:-PT48H
REPEAT:4
DURATION:PT30M
ACTION:DISPLAY
END:VALARM
END:VEVENT
END:VCALENDAR