BEGIN:VCALENDAR
VERSION:2.0
PRODID:GlueUp
CALSCALE:GREGORIAN
BEGIN:VTIMEZONE
TZID:UTC
BEGIN:STANDARD
DTSTART:19700101T000000
TZOFFSETFROM:+0000
TZOFFSETTO:+0000
TZNAME:UTC
END:STANDARD
END:VTIMEZONE
BEGIN:VEVENT
TZ:+00
ORGANIZER;CN=Elijah Odil:MAILTO:president@nidoeastchina.org
UID:26731-1776995113@https://app.glueup.cn
DTSTAMP:20260424T014513Z
DTSTART:20200516T110000Z
DTEND:20200516T130000Z
SUMMARY:OBSTRUCTIVE SLEEP APNEA AND ITS PREVALENCE IN THE BLACK COMMUNITY
DESCRIPTION:OBSTRUCTIVE SLEEP APNEA AND ITS PREVALENCE IN THE BLACK COMMUNITY by Nigerians In Diaspora Organization (East China Chapter)\n\nMay 16, 2020 (7:00 PM - 9:00 PM)(GMT+8)\n\nFor more information, click here: https://app.glueup.cn/my/events/26731
LOCATION:https://zoom.com.cn/j/171025700
BEGIN:VALARM
TRIGGER:-PT48H
REPEAT:4
DURATION:PT30M
ACTION:DISPLAY
END:VALARM
END:VEVENT
END:VCALENDAR