BEGIN:VCALENDAR
VERSION:2.0
PRODID:GlueUp
CALSCALE:GREGORIAN
BEGIN:VTIMEZONE
TZID:UTC
BEGIN:STANDARD
DTSTART:19700101T000000
TZOFFSETFROM:+0000
TZOFFSETTO:+0000
TZNAME:UTC
END:STANDARD
END:VTIMEZONE
BEGIN:VEVENT
TZ:+00
ORGANIZER;CN=谢少桢:MAILTO:sx@seafood.no
UID:28204-1776716292@https://app.glueup.cn
DTSTAMP:20260420T201812Z
DTSTART:20200825T090000Z
DTEND:20200825T123000Z
SUMMARY:NORWEGIAN SEAFOOD RECEPTION DINNER 2020
DESCRIPTION:NORWEGIAN SEAFOOD RECEPTION DINNER 2020 by Norwegian Seafood Council\n\nAug 25, 2020 (17:00 - 20:30)(GMT+8)\n\nFor more information, click here: https://app.glueup.cn/my/events/28204
LOCATION:上海新天地朗廷酒店 - Madang Road 99 Shanghai Shi - China
BEGIN:VALARM
TRIGGER:-PT48H
REPEAT:4
DURATION:PT30M
ACTION:DISPLAY
END:VALARM
END:VEVENT
END:VCALENDAR