BEGIN:VCALENDAR
VERSION:2.0
PRODID:GlueUp
CALSCALE:GREGORIAN
BEGIN:VTIMEZONE
TZID:UTC
BEGIN:STANDARD
DTSTART:19700101T000000
TZOFFSETFROM:+0000
TZOFFSETTO:+0000
TZNAME:UTC
END:STANDARD
END:VTIMEZONE
BEGIN:VEVENT
TZ:+00
ORGANIZER;CN=Elijah Odil:MAILTO:president@nidoeastchina.org
UID:28598-1776990337@https://app.glueup.cn
DTSTAMP:20260424T002537Z
DTSTART:20200917T000000Z
DTEND:20200917T020000Z
SUMMARY:NiDO EAST CHINA BYLAWS RATIFICATION CONGRESS
DESCRIPTION:NiDO EAST CHINA BYLAWS RATIFICATION CONGRESS by Nigerians In Diaspora Organization (East China Chapter)\n\nSeptember 16, 2020\n7:00 PM - 9:00 PM(GMT-5)\n\nFor more information and to attend the online event, click here:\n\nEvent Website: https://app.glueup.cn/my/events/28598\n\nEvent Link: https://www.nidoeastchina.org
LOCATION:https://www.nidoeastchina.org
BEGIN:VALARM
TRIGGER:-PT1H
REPEAT:4
DURATION:PT15M
ACTION:DISPLAY
END:VALARM
END:VEVENT
END:VCALENDAR