BEGIN:VCALENDAR
VERSION:2.0
PRODID:GlueUp
CALSCALE:GREGORIAN
BEGIN:VTIMEZONE
TZID:UTC
BEGIN:STANDARD
DTSTART:19700101T000000
TZOFFSETFROM:+0000
TZOFFSETTO:+0000
TZNAME:UTC
END:STANDARD
END:VTIMEZONE
BEGIN:VEVENT
TZ:+00
ORGANIZER;CN=Felix Dike:MAILTO:dikeunn85@gmail.com
UID:21879-1776990338@https://app.glueup.cn
DTSTAMP:20260424T002538Z
DTSTART:20190503T043000Z
DTEND:20190503T080000Z
SUMMARY:NEXTLEVEL EDUCATIONAL FOUNDATION INT’L CONFERENCE SHANGHAI, CHINA   2019
DESCRIPTION:NEXTLEVEL EDUCATIONAL FOUNDATION INT’L CONFERENCE SHANGHAI, CHINA   2019 by Nigerians In Diaspora Organization (East China Chapter)\n\nMay 3, 2019 (12:30 PM - 4:00 PM)(GMT+8)\n\nFor more information, click here: https://app.glueup.cn/my/events/21879
LOCATION:Shanghai Mingde Learning Organization Institute - RM1104 - Building 1 - No. 100 - East Tiyuhui Rd - Hongkou - Shanghai. -  - 上海虹口区东体育会路100弄1号1104室。上海明德学习型组织研究所。 Shanghai - Hongkou District - China
BEGIN:VALARM
TRIGGER:-PT48H
REPEAT:4
DURATION:PT30M
ACTION:DISPLAY
END:VALARM
END:VEVENT
END:VCALENDAR