BEGIN:VCALENDAR
VERSION:2.0
PRODID:GlueUp
CALSCALE:GREGORIAN
BEGIN:VTIMEZONE
TZID:UTC
BEGIN:STANDARD
DTSTART:19700101T000000
TZOFFSETFROM:+0000
TZOFFSETTO:+0000
TZNAME:UTC
END:STANDARD
END:VTIMEZONE
BEGIN:VEVENT
TZ:+00
ORGANIZER;CN=Samantha Kwok:MAILTO:info@jingjobs.com
UID:20569-1776801340@https://app.glueup.cn
DTSTAMP:20260421T195540Z
DTSTART:20190220T110000Z
DTEND:20190220T133000Z
SUMMARY:New Year, New Career: How to Prepare For a Career Change in 2019
DESCRIPTION:New Year, New Career: How to Prepare For a Career Change in 2019 by JingJobs\n\nFeb 20, 2019 (7:00 PM - 9:30 PM)(GMT+8)\n\nFor more information, click here: https://app.glueup.cn/my/events/20569
LOCATION:Inn Cube Coworking Space - 9/F Jing Chao Building - No. 5 NongZhanGuanNanLu - Tuanjiehu - Chaoyang District Beijing - China
BEGIN:VALARM
TRIGGER:-PT48H
REPEAT:4
DURATION:PT30M
ACTION:DISPLAY
END:VALARM
END:VEVENT
END:VCALENDAR