BEGIN:VCALENDAR
VERSION:2.0
PRODID:GlueUp
CALSCALE:GREGORIAN
BEGIN:VTIMEZONE
TZID:UTC
BEGIN:STANDARD
DTSTART:19700101T000000
TZOFFSETFROM:+0000
TZOFFSETTO:+0000
TZNAME:UTC
END:STANDARD
END:VTIMEZONE
BEGIN:VEVENT
TZ:+00
ORGANIZER;CN=Felix Dike:MAILTO:dikeunn85@gmail.com
UID:24634-1776990722@https://app.glueup.cn
DTSTAMP:20260424T003202Z
DTSTART:20191206T040000Z
DTEND:20191207T000000Z
SUMMARY:"Museum Education from the Perspective of Cultural Heritage"
DESCRIPTION:"Museum Education from the Perspective of Cultural Heritage" by Nigerians In Diaspora Organization (East China Chapter)\n\nDec 6 & 7, 2019(GMT+8)\n\nFor more information, click here: https://app.glueup.cn/my/events/24634
LOCATION:Guanghua Towers Building, Fudan University - Wu Wenzheng Hall in Guanghua Towers Building - Fudan University (Handan Rd.) Yungpu District - Shanghai - Shanghai - China
BEGIN:VALARM
TRIGGER:-PT48H
REPEAT:4
DURATION:PT30M
ACTION:DISPLAY
END:VALARM
END:VEVENT
END:VCALENDAR