BEGIN:VCALENDAR
VERSION:2.0
PRODID:GlueUp
CALSCALE:GREGORIAN
BEGIN:VTIMEZONE
TZID:UTC
BEGIN:STANDARD
DTSTART:19700101T000000
TZOFFSETFROM:+0000
TZOFFSETTO:+0000
TZNAME:UTC
END:STANDARD
END:VTIMEZONE
BEGIN:VEVENT
TZ:+00
ORGANIZER;CN=Marian Danko:MAILTO:becool@wehustle.cn
UID:37018-1776774974@https://app.glueup.cn
DTSTAMP:20260421T123614Z
DTSTART:20220623T110000Z
DTEND:20220623T134000Z
SUMMARY:LinkedIn Workshop
DESCRIPTION:LinkedIn Workshop by weHustle\n\nJun 23, 2022 (7:00 PM - 9:40 PM)(GMT+8)\n\nFor more information, click here: https://app.glueup.cn/my/events/37018
LOCATION:Agora Space - 1199 Panyu Road - Building 8 - Basement - 番禺路1199弄8号楼地下空间 Shanghai - China
BEGIN:VALARM
TRIGGER:-PT48H
REPEAT:4
DURATION:PT30M
ACTION:DISPLAY
END:VALARM
END:VEVENT
END:VCALENDAR