BEGIN:VCALENDAR
VERSION:2.0
PRODID:GlueUp
CALSCALE:GREGORIAN
BEGIN:VTIMEZONE
TZID:UTC
BEGIN:STANDARD
DTSTART:19700101T000000
TZOFFSETFROM:+0000
TZOFFSETTO:+0000
TZNAME:UTC
END:STANDARD
END:VTIMEZONE
BEGIN:VEVENT
TZ:+00
ORGANIZER;CN=Marian Danko:MAILTO:becool@wehustle.cn
UID:33812-1776780847@https://app.glueup.cn
DTSTAMP:20260421T141407Z
DTSTART:20210928T103000Z
DTEND:20210928T133000Z
SUMMARY:LinkedIn Workshop
DESCRIPTION:LinkedIn Workshop by weHustle\n\nSep 28, 2021 (6:30 PM - 9:30 PM)(GMT+8)\n\nFor more information, click here: https://app.glueup.cn/my/events/33812
LOCATION:WhiteSpace - 上海黄浦区延安东路700号港泰广场24楼H1会议室 - Gangtai Plaza - 24th floor - Meeting Room H1 - 700 East Yan'an Road Shanghai - China
BEGIN:VALARM
TRIGGER:-PT48H
REPEAT:4
DURATION:PT30M
ACTION:DISPLAY
END:VALARM
END:VEVENT
END:VCALENDAR