BEGIN:VCALENDAR
VERSION:2.0
PRODID:GlueUp
CALSCALE:GREGORIAN
BEGIN:VTIMEZONE
TZID:UTC
BEGIN:STANDARD
DTSTART:19700101T000000
TZOFFSETFROM:+0000
TZOFFSETTO:+0000
TZNAME:UTC
END:STANDARD
END:VTIMEZONE
BEGIN:VEVENT
TZ:+00
ORGANIZER;CN=Susan Yu:MAILTO:susan.yu@ap.jll.com
UID:23916-1776944303@https://app.glueup.cn
DTSTAMP:20260423T113823Z
DTSTART:20191019T020000Z
DTEND:20200124T130000Z
SUMMARY:JLL Rock Climbing Challenge 2019 - Shanghai
DESCRIPTION:JLL Rock Climbing Challenge 2019 - Shanghai by Glue Up -  TOB Demo\n\nOct 19, 2019 to Jan 24, 2020(GMT+8)\n\nFor more information, click here: https://app.glueup.cn/my/events/23916
LOCATION:FUTURE CLIMBING GYM - Atrium on the 2nd floor of Jiayu Building - 1177 Husong Road - Songjiang District Shanghai
BEGIN:VALARM
TRIGGER:-PT48H
REPEAT:4
DURATION:PT30M
ACTION:DISPLAY
END:VALARM
END:VEVENT
END:VCALENDAR