BEGIN:VCALENDAR
VERSION:2.0
PRODID:GlueUp
CALSCALE:GREGORIAN
BEGIN:VTIMEZONE
TZID:UTC
BEGIN:STANDARD
DTSTART:19700101T000000
TZOFFSETFROM:+0000
TZOFFSETTO:+0000
TZNAME:UTC
END:STANDARD
END:VTIMEZONE
BEGIN:VEVENT
TZ:+00
ORGANIZER;CN=Sam Pu:MAILTO:sampu@britchamswchina.org
UID:49645-1776936206@https://app.glueup.cn
DTSTAMP:20260423T092326Z
DTSTART:20260304T060000Z
DTEND:20260304T083000Z
SUMMARY:International Women's Day: Her Energy: From Reflection to Release
DESCRIPTION:International Women's Day: Her Energy: From Reflection to Release by British Chamber of Commerce Southwest China\n\nMar 4, 2026 (2:00 PM - 4:30 PM)(GMT+8)\n\nFor more information, click here: https://app.glueup.cn/my/events/49645
LOCATION:ICC Club Managed by TEC - 5/F - One ICC Office Tower - Dongda Road - Jinjiang District - Chengdu 成都市锦江区东大路577号成都环球贸易广场办公楼一期5楼 Chengdu - Sichuan - China
BEGIN:VALARM
TRIGGER:-PT48H
REPEAT:4
DURATION:PT30M
ACTION:DISPLAY
END:VALARM
END:VEVENT
END:VCALENDAR