BEGIN:VCALENDAR
VERSION:2.0
PRODID:GlueUp
CALSCALE:GREGORIAN
BEGIN:VTIMEZONE
TZID:UTC
BEGIN:STANDARD
DTSTART:19700101T000000
TZOFFSETFROM:+0000
TZOFFSETTO:+0000
TZNAME:UTC
END:STANDARD
END:VTIMEZONE
BEGIN:VEVENT
TZ:+00
ORGANIZER;CN=Felix Dike:MAILTO:dikeunn85@gmail.com
UID:22084-1776990722@https://app.glueup.cn
DTSTAMP:20260424T003202Z
DTSTART:20190519T133000Z
DTEND:20190519T143000Z
SUMMARY:International Health Assurance Everywhere You Go
DESCRIPTION:International Health Assurance Everywhere You Go by Nigerians In Diaspora Organization (East China Chapter)\n\nMay 19, 2019 (9:30 PM - 10:30 PM)(GMT+8)\n\nFor more information, click here: https://app.glueup.cn/my/events/22084
LOCATION:
BEGIN:VALARM
TRIGGER:-PT48H
REPEAT:4
DURATION:PT30M
ACTION:DISPLAY
END:VALARM
END:VEVENT
END:VCALENDAR