BEGIN:VCALENDAR
VERSION:2.0
PRODID:GlueUp
CALSCALE:GREGORIAN
BEGIN:VTIMEZONE
TZID:UTC
BEGIN:STANDARD
DTSTART:19700101T000000
TZOFFSETFROM:+0000
TZOFFSETTO:+0000
TZNAME:UTC
END:STANDARD
END:VTIMEZONE
BEGIN:VEVENT
TZ:+00
ORGANIZER;CN=AustCham South China:MAILTO:marketing.sc@austcham.org
UID:50043-1776754722@https://app.glueup.cn
DTSTAMP:20260421T065842Z
DTSTART:20260410T060000Z
DTEND:20260410T090000Z
SUMMARY:Insights into the 15th  Five-Year Plan “十五五”规划洞察
DESCRIPTION:Insights into the 15th  Five-Year Plan “十五五”规划洞察 by AustCham China\n\nApr 10, 2026 (14:00 - 17:00)(GMT+8)\n\nFor more information, click here: https://app.glueup.cn/my/events/50043
LOCATION:Dentons Law Firm 大成律师事务所 - 15F - CTF Finance Centre - Guangzhou - 广州周大福金融中心15层 Guangzhou - China
BEGIN:VALARM
TRIGGER:-PT48H
REPEAT:4
DURATION:PT30M
ACTION:DISPLAY
END:VALARM
END:VEVENT
END:VCALENDAR