BEGIN:VCALENDAR
VERSION:2.0
PRODID:GlueUp
CALSCALE:GREGORIAN
BEGIN:VTIMEZONE
TZID:UTC
BEGIN:STANDARD
DTSTART:19700101T000000
TZOFFSETFROM:+0000
TZOFFSETTO:+0000
TZNAME:UTC
END:STANDARD
END:VTIMEZONE
BEGIN:VEVENT
TZ:+00
ORGANIZER;CN=JingJobs Intern:MAILTO:admin@jingjobs.com
UID:21951-1776806652@https://app.glueup.cn
DTSTAMP:20260421T212412Z
DTSTART:20190520T103000Z
DTEND:20190520T133000Z
SUMMARY:How to Make a Career Change into Tech
DESCRIPTION:How to Make a Career Change into Tech by JingJobs\n\nMay 20, 2019 (6:30 PM - 9:30 PM)(GMT+8)\n\nFor more information, click here: https://app.glueup.cn/my/events/21951
LOCATION:Inn Cube Coworking Space - 9/F Jing Chao Building - No. 5 NongZhanGuanNanLu - Tuanjiehu - Chaoyang District Beijing - China
BEGIN:VALARM
TRIGGER:-PT48H
REPEAT:4
DURATION:PT30M
ACTION:DISPLAY
END:VALARM
END:VEVENT
END:VCALENDAR