BEGIN:VCALENDAR
VERSION:2.0
PRODID:GlueUp
CALSCALE:GREGORIAN
BEGIN:VTIMEZONE
TZID:UTC
BEGIN:STANDARD
DTSTART:19700101T000000
TZOFFSETFROM:+0000
TZOFFSETTO:+0000
TZNAME:UTC
END:STANDARD
END:VTIMEZONE
BEGIN:VEVENT
TZ:+00
ORGANIZER;CN=JingJobs Intern:MAILTO:admin@jingjobs.com
UID:21964-1776806645@https://app.glueup.cn
DTSTAMP:20260421T212405Z
DTSTART:20190518T063000Z
DTEND:20190518T090000Z
SUMMARY:How to Ace a Job Interview in Chinese
DESCRIPTION:How to Ace a Job Interview in Chinese by JingJobs\n\nMay 18, 2019 (2:30 PM - 5:00 PM)(GMT+8)\n\nFor more information, click here: https://app.glueup.cn/my/events/21964
LOCATION:Hutong School Beijing - 北京市朝阳区工体北路甲6号中宇大厦1501室100027 -  - Zhongyu Plaza - Room 1501 - 15/F - A6 Gongti Beilu - 100027 Chaoyang District Beijing - Beijing - China Beijing - China
BEGIN:VALARM
TRIGGER:-PT48H
REPEAT:4
DURATION:PT30M
ACTION:DISPLAY
END:VALARM
END:VEVENT
END:VCALENDAR