BEGIN:VCALENDAR
VERSION:2.0
PRODID:GlueUp
CALSCALE:GREGORIAN
BEGIN:VTIMEZONE
TZID:UTC
BEGIN:STANDARD
DTSTART:19700101T000000
TZOFFSETFROM:+0000
TZOFFSETTO:+0000
TZNAME:UTC
END:STANDARD
END:VTIMEZONE
BEGIN:VEVENT
TZ:+00
ORGANIZER;CN=AustCham China Events:MAILTO:events@austcham.org
UID:50071-1776994964@https://app.glueup.cn
DTSTAMP:20260424T014244Z
DTSTART:20260518T101500Z
DTEND:20260518T133000Z
SUMMARY:H1 Ambassador's Briefing Dinner
DESCRIPTION:H1 Ambassador's Briefing Dinner by AustCham China\n\nMay 18, 2026 (18:15 - 21:30)(GMT+8)\n\nFor more information, click here: https://app.glueup.cn/my/events/50071
LOCATION:Kerry Hotel Beijing 北京嘉裏大酒店 - No. 1 Guanghua Road - Chaoyang District - Beijing 100020 - China - 中国北京朝阳区光华路1号 Beijing
BEGIN:VALARM
TRIGGER:-PT48H
REPEAT:4
DURATION:PT30M
ACTION:DISPLAY
END:VALARM
END:VEVENT
END:VCALENDAR