BEGIN:VCALENDAR
VERSION:2.0
PRODID:GlueUp
CALSCALE:GREGORIAN
BEGIN:VTIMEZONE
TZID:UTC
BEGIN:STANDARD
DTSTART:19700101T000000
TZOFFSETFROM:+0000
TZOFFSETTO:+0000
TZNAME:UTC
END:STANDARD
END:VTIMEZONE
BEGIN:VEVENT
TZ:+00
ORGANIZER;CN=Chen Emily:MAILTO:chen.emily@gz.china.ahk.de
UID:21306-1776765363@https://app.glueup.cn
DTSTAMP:20260421T095603Z
DTSTART:20190423T073000Z
DTEND:20190423T090000Z
SUMMARY:Guangzhou - Visa Seminar
DESCRIPTION:Guangzhou - Visa Seminar by German Chamber of Commerce - South & Southwest China\n\nApr 23, 2019 (3:30 PM - 5:00 PM)(GMT+8)\n\nFor more information, click here: https://app.glueup.cn/my/events/21306
LOCATION:GCC Office Guangzhou 德国商会广州办公室 - No. 1903 - Leatop Plaza - No. 32 - Zhujiang East Road - Tianhe District Guangzhou - Guangdong - China
BEGIN:VALARM
TRIGGER:-PT48H
REPEAT:4
DURATION:PT30M
ACTION:DISPLAY
END:VALARM
END:VEVENT
END:VCALENDAR