BEGIN:VCALENDAR
VERSION:2.0
PRODID:GlueUp
CALSCALE:GREGORIAN
BEGIN:VTIMEZONE
TZID:UTC
BEGIN:STANDARD
DTSTART:19700101T000000
TZOFFSETFROM:+0000
TZOFFSETTO:+0000
TZNAME:UTC
END:STANDARD
END:VTIMEZONE
BEGIN:VEVENT
TZ:+00
ORGANIZER;CN=Phil Camerik:MAILTO:phil@cages.cn
UID:22020-1776766333@https://app.glueup.cn
DTSTAMP:20260421T101213Z
DTSTART:20190513T110000Z
DTEND:20190513T150000Z
SUMMARY:Game of Thrones Episode 5 Watch Party
DESCRIPTION:Game of Thrones Episode 5 Watch Party by Cages Bar & Sports Shanghai\n\nMay 13, 2019 (19:00 - 23:00)(GMT+8)\n\nFor more information, click here: https://app.glueup.cn/my/events/22020
LOCATION:Cages Bar & Sports - 3F - Jing'An Sports Center - Jiang Ning Lu 428 - Jing'an - Shanghai Shanghai - Shanghai Shi - China
BEGIN:VALARM
TRIGGER:-PT48H
REPEAT:4
DURATION:PT30M
ACTION:DISPLAY
END:VALARM
END:VEVENT
END:VCALENDAR