BEGIN:VCALENDAR
VERSION:2.0
PRODID:GlueUp
CALSCALE:GREGORIAN
BEGIN:VTIMEZONE
TZID:UTC
BEGIN:STANDARD
DTSTART:19700101T000000
TZOFFSETFROM:+0000
TZOFFSETTO:+0000
TZNAME:UTC
END:STANDARD
END:VTIMEZONE
BEGIN:VEVENT
TZ:+00
ORGANIZER;CN=Felix Dike:MAILTO:dikeunn85@gmail.com
UID:23370-1776995046@https://app.glueup.cn
DTSTAMP:20260424T014406Z
DTSTART:20190828T130000Z
DTEND:20190828T140000Z
SUMMARY:Free Webinar on Ask Me Anything
DESCRIPTION:Free Webinar on Ask Me Anything by Nigerians In Diaspora Organization (East China Chapter)\n\nAug 28, 2019 (9:00 PM - 10:00 PM)(GMT+8)\n\nFor more information, click here: https://app.glueup.cn/my/events/23370
LOCATION:
BEGIN:VALARM
TRIGGER:-PT48H
REPEAT:4
DURATION:PT30M
ACTION:DISPLAY
END:VALARM
END:VEVENT
END:VCALENDAR