BEGIN:VCALENDAR
VERSION:2.0
PRODID:GlueUp
CALSCALE:GREGORIAN
BEGIN:VTIMEZONE
TZID:UTC
BEGIN:STANDARD
DTSTART:19700101T000000
TZOFFSETFROM:+0000
TZOFFSETTO:+0000
TZNAME:UTC
END:STANDARD
END:VTIMEZONE
BEGIN:VEVENT
TZ:+00
ORGANIZER;CN=AustCham South China:MAILTO:marketing.sc@austcham.org
UID:46839-1776604615@https://app.glueup.cn
DTSTAMP:20260419T131655Z
DTSTART:20250413T043000Z
DTEND:20250413T080000Z
SUMMARY:Footy Family Day
DESCRIPTION:Footy Family Day by AustCham China\n\nApr 13, 2025 (12:30 - 16:00)(GMT+8)\n\nFor more information, click here: https://app.glueup.cn/my/events/46839
LOCATION:Er Sha - Qingbo Road - Ersha lsland Sports Park Guangzhou - Guangdong - China
BEGIN:VALARM
TRIGGER:-PT48H
REPEAT:4
DURATION:PT30M
ACTION:DISPLAY
END:VALARM
END:VEVENT
END:VCALENDAR