BEGIN:VCALENDAR
VERSION:2.0
PRODID:GlueUp
CALSCALE:GREGORIAN
BEGIN:VTIMEZONE
TZID:UTC
BEGIN:STANDARD
DTSTART:19700101T000000
TZOFFSETFROM:+0000
TZOFFSETTO:+0000
TZNAME:UTC
END:STANDARD
END:VTIMEZONE
BEGIN:VEVENT
TZ:+00
ORGANIZER;CN=Coach ISLC:MAILTO:info@islcoaching.com
UID:39016-1777175247@https://app.glueup.cn
DTSTAMP:20260426T034727Z
DTSTART:20231201T010000Z
DTEND:20231203T093000Z
SUMMARY:Executive and Leadership Coaching Essentials Level Two - Module Two Program
DESCRIPTION:Executive and Leadership Coaching Essentials Level Two - Module Two Program by ISLC-Institute of Strategic Leadership and Coaching\n\nDec 1 - 3, 2023(GMT+8)\n\nFor more information, click here: https://app.glueup.cn/my/events/39016
LOCATION:Novotel Shanghai Hongqiao - 上海市协和路1102号No 1102 - Xiehe Road, Shanghai Shanghai - China
BEGIN:VALARM
TRIGGER:-PT48H
REPEAT:4
DURATION:PT30M
ACTION:DISPLAY
END:VALARM
END:VEVENT
END:VCALENDAR