BEGIN:VCALENDAR
VERSION:2.0
PRODID:GlueUp
CALSCALE:GREGORIAN
BEGIN:VTIMEZONE
TZID:UTC
BEGIN:STANDARD
DTSTART:19700101T000000
TZOFFSETFROM:+0000
TZOFFSETTO:+0000
TZNAME:UTC
END:STANDARD
END:VTIMEZONE
BEGIN:VEVENT
TZ:+00
ORGANIZER;CN=Nini Qi:MAILTO:nini.qi@sha.swisscham.org
UID:28021-1776612655@https://app.glueup.cn
DTSTAMP:20260419T153055Z
DTSTART:20200910T103000Z
DTEND:20200910T130000Z
SUMMARY:[Event] Joint Chamber Fish & Chips Night
DESCRIPTION:[Event] Joint Chamber Fish & Chips Night by SwissCham Shanghai\n\nSep 10, 2020 (18:30 - 21:00)(GMT+8)\n\nFor more information, click here: https://app.glueup.cn/my/events/28021
LOCATION:The Bull & Claw - First floor - No 110 - Fen Yang Road - 汾阳路110号一楼 Shanghai - China
BEGIN:VALARM
TRIGGER:-PT48H
REPEAT:4
DURATION:PT30M
ACTION:DISPLAY
END:VALARM
END:VEVENT
END:VCALENDAR